BEGIN:VCALENDAR
VERSION:2.0
PRODID:-//Valencia Gratis - ECPv6.5.1.5//NONSGML v1.0//EN
CALSCALE:GREGORIAN
METHOD:PUBLISH
X-WR-CALNAME:Valencia Gratis
X-ORIGINAL-URL:https://valenciagratis.com
X-WR-CALDESC:Eventos para Valencia Gratis
REFRESH-INTERVAL;VALUE=DURATION:PT1H
X-Robots-Tag:noindex
X-PUBLISHED-TTL:PT1H
BEGIN:VTIMEZONE
TZID:Europe/Madrid
BEGIN:DAYLIGHT
TZOFFSETFROM:+0100
TZOFFSETTO:+0200
TZNAME:CEST
DTSTART:20240331T010000
END:DAYLIGHT
BEGIN:STANDARD
TZOFFSETFROM:+0200
TZOFFSETTO:+0100
TZNAME:CET
DTSTART:20241027T010000
END:STANDARD
END:VTIMEZONE
BEGIN:VEVENT
DTSTART;TZID=Europe/Madrid:20240719T080000
DTEND;TZID=Europe/Madrid:20240725T170000
DTSTAMP:20260419T161503
CREATED:20240622T084522Z
LAST-MODIFIED:20240622T084522Z
UID:310-1721376000-1721926800@valenciagratis.com
SUMMARY:LOS40 Summer Live 2024: Conciertos Gratuitos en la Comunitat Valenciana
DESCRIPTION:Este verano\, ¡no te pierdas LOS40 Summer Live 2024 en la Comunitat Valenciana! La gira de verano más grande y exitosa de España regresa con más de 30 artistas\, llevando los éxitos del pop nacional a diversas localidades de nuestra comunidad. Desde artistas emergentes hasta estrellas de primer nivel\, este evento es un punto de encuentro imprescindible para todos los amantes de la música. \nLa gira\, que comienza el 9 de julio en Cáceres\, llegará a la Comunitat Valenciana el 19 de julio. A continuación\, te mostramos las fechas y lugares de los conciertos gratuitos: \nFechas y Localidades:\n\nSanta Pola (Alicante) – Viernes\, 19 de julio de 2024\n\nArtistas: Abraham Mateo\, La Beba\, Pol Granch\, Ruslana\, Paula Koops\, J Francis\, Noan\, Malva y Elio Leiros.\nDj Set: Óscar Martínez.\n\n\nVillena (Alicante) – Sábado\, 20 de julio de 2024\n\nArtistas: Abraham Mateo\, La Beba\, Pol Granch\, Ruslana\, Paula Koops\, J Francis\, Noan y Elio Leiros.\nDj Set: Óscar Martínez.\n\n\nEl Campello (Alicante) – Domingo\, 21 de julio de 2024\n\nArtistas: Álvaro de Luna\, Abraham Mateo\, Marlon\, La Beba\, Pol Granch\, Ruslana\, Paula Koops\, J Francis y Noan.\nDj Set: Óscar Martínez.\n\n\nAlcoy (Alicante) – Martes\, 23 de julio de 2024\n\nArtistas: David Otero\, Marlon\, La Beba\, Pol Granch\, DePol\, Hilario\, Adexe & Nau\, César AC\, Polo Nández\, Mayo\, Noan y Elio Leiros.\nDj Set: Óscar Martínez.\n\n\nGandía (Valencia) – Miércoles\, 24 de julio de 2024\n\nArtistas: Vicco\, Charlie USG\, Marlon\, David Otero\, La Beba\, Pol Granch\, Soge Culebra\, Hilario\, Adexe & Nau\, César AC\, Mayo\, Noan y Elio Leiros.\nDj Set: Óscar Martínez.\n\n\nMislata (Valencia) – Jueves\, 25 de julio de 2024\n\nArtistas: Vicco\, Charlie USH\, David Otero\, La Beba\, Pol Granch\, Soge Culebra\, Hilario\, Adexe & Nau\, César AC\, Mayo\, Noan\, Elio Leiros y Lucas Curotto.\nDj Set: Óscar Martínez.\n\n\n\n¡No te pierdas la oportunidad de disfrutar de estos conciertos gratuitos y vivir una experiencia musical única este verano en la Comunitat Valenciana!
URL:https://valenciagratis.com/evento/los40-summer-live-2024-conciertos-gratuitos-en-la-comunitat-valenciana/
LOCATION:Valencia
CATEGORIES:Música
ATTACH;FMTTYPE=image/png:https://valenciagratis.com/wp-content/uploads/2024/06/valenciagratis_los40live_2024.png
END:VEVENT
BEGIN:VEVENT
DTSTART;TZID=Europe/Madrid:20240622T080000
DTEND;TZID=Europe/Madrid:20240831T170000
DTSTAMP:20260419T161503
CREATED:20240624T090223Z
LAST-MODIFIED:20240624T090223Z
UID:347-1719043200-1725123600@valenciagratis.com
SUMMARY:Descubre Valencia con Visitas Guiadas Gratuitas por 4 Barrios Icónicos
DESCRIPTION:Cabanyal-Canyamelar\, la Malva-rosa y Benimàmet! Este verano\, la Concejalía de Turismo del Ayuntamiento de Valencia te invita a conocer los rincones más auténticos y culturales de la ciudad a través del programa «Turismo de barrios». \n¿Cuándo y Dónde?\nMalva-rosa: \n\n6 de julio (castellano)\n13 de julio (valenciano)\n24 de agosto (inglés)\n30 de agosto (castellano con interpretación en lengua de signos)\nHora: 19:00\n\nBenimàmet: \n\n27 de julio (valenciano)\n10 de agosto (castellano con interpretación en lengua de signos)\nHora: 19:00\n\nCabanyal-Canyamelar: \n\n22 de junio (castellano\, 11:00)\n21 de julio (inglés)\n24 de agosto (castellano con interpretación en lengua de signos)\nHora: 19:00 (excepto el 22 de junio\, que es a las 11:00)\n\nPatraix: \n\n29 de junio (castellano\, 11:00)\n13 de julio (valenciano)\n31 de agosto (castellano con interpretación en lengua de signos)\nHora: 19:00 (excepto el 29 de junio\, que es a las 11:00)\n\nDetalles de las Visitas:\nCada recorrido tendrá una duración de entre una hora y media y dos horas. Estas visitas son una oportunidad única para sumergirse en la historia\, cultura y encanto de los barrios valencianos más representativos. \nCómo Inscribirse:\nLa inscripción es gratuita y sencilla. Envía un correo electrónico a inscripcionturismo@valencia.es con el nombre completo y el teléfono de cada persona que desee asistir (máximo cuatro personas por correo). ¡No te pierdas esta oportunidad de redescubrir Valencia!
URL:https://valenciagratis.com/evento/descubre-valencia-con-visitas-guiadas-gratuitas-por-4-barrios-iconicos/
LOCATION:Valencia
CATEGORIES:Turismo
ATTACH;FMTTYPE=image/jpeg:https://valenciagratis.com/wp-content/uploads/2024/06/visitas_guiadas_4_2024_.jpg
END:VEVENT
BEGIN:VEVENT
DTSTART;TZID=Europe/Madrid:20240621T170000
DTEND;TZID=Europe/Madrid:20240630T150000
DTSTAMP:20260419T161503
CREATED:20240619T140257Z
LAST-MODIFIED:20240619T214807Z
UID:96-1718989200-1719759600@valenciagratis.com
SUMMARY:Feria del Vermut en Valencia 2024: Disfruta del Mejor Vermut en el Corazón de la Ciudad
DESCRIPTION:¡La Feria del Vermut de Valencia 2024 ya está aquí! Esta 7ª edición se celebra durante 10 días\, del viernes 21 de junio al domingo 30 de junio\, en el popular Mercado de Tapineria\, ubicado en la calle Tapineria 15-17\, en pleno centro de la ciudad. Este evento de entrada libre y gratuita es la oportunidad perfecta para disfrutar de una amplia variedad de vermuts en un ambiente festivo y relajado. Solo pagas por lo que consumes o compras. La feria tiene como objetivo promover las bodegas productoras de vermut y potenciar el consumo de esta bebida en cualquier momento del día\, ya sea como aperitivo\, afterwork\, por la tarde o antes de la cena. \nMarcas de Vermut Presentes: \n\n\n\nBenvolgut Aperitivos: Tres variedades: blanco\, rojo y rosa artesano (26-30 de junio).\nBaronía de Turís: Vermut artesanal 13:30 (26-30 de junio).\nMata Ratas: (21-25 de junio).\nVermut Artesano de Teulada: Con hierbas maceradas y vino dulce de moscatel\, de Bodega Teulada (21-25 de junio).\nVermut Gilisbars: Extradry blanco\, botanik´s y vermut original (26-30 de junio).\nCarmeleta Spirit: Variedades Rosso\, Bianco\, Orange y Rosseta (21-25 de junio).\nBodegas Urbanas: (21-25 de junio).\n\n\n\nHorarios de la Feria del Vermut de Valencia 2024:\n\nViernes 21 de junio: 17:00 – 22:00 horas.\nSábado 22 de junio: 12:00 – 22:00 horas.\nDomingo 23 de junio: 11:00 – 15:00 horas.\nLunes 24 de junio: 17:00 – 22:00 horas.\nMartes 25 de junio: 17:00 – 22:00 horas.\nMiércoles 26 de junio: 17:00 – 22:00 horas.\nJueves 27 de junio: 17:00 – 22:00 horas.\nViernes 28 de junio: 17:00 – 22:00 horas.\nSábado 29 de junio: 12:00 – 22:00 horas.\nDomingo 30 de junio: 11:00 – 15:00 horas.\n\nNo te pierdas esta cita imprescindible en el Mercado de Tapineria\, donde podrás descubrir los mejores vermuts y disfrutar de un ambiente único en el centro de Valencia.
URL:https://valenciagratis.com/evento/feria-del-vermut-en-valencia-2024-disfruta-del-mejor-vermut-en-el-corazon-de-la-ciudad/
LOCATION:Feria del Vermut 2024\, C/ de la Tapineria\, 15\, Ciutat Vella\, Valencia\, Valencia\, 46001\, Spain
CATEGORIES:Cocktails,Gastronomia
ATTACH;FMTTYPE=image/jpeg:https://valenciagratis.com/wp-content/uploads/2024/06/portada-feria-vermut-valencia-v4.jpg
END:VEVENT
BEGIN:VEVENT
DTSTART;TZID=Europe/Madrid:20240620T200000
DTEND;TZID=Europe/Madrid:20240628T210000
DTSTAMP:20260419T161503
CREATED:20240620T074325Z
LAST-MODIFIED:20240622T081909Z
UID:259-1718913600-1719608400@valenciagratis.com
SUMMARY:XXVII Festival de Jazz de València 2024: Disfruta de Conciertos Gratuitos por Toda la Ciudad
DESCRIPTION:¡Ya está aquí el XXVII Festival de Jazz de València! Del 20 de junio al 28 de julio de 2024\, el jazz inundará la ciudad con una vibrante mezcla de ritmos cubanos\, flamencos y valencianos. Este festival\, con una programación que destaca lo mejor del jazz español y americano\, promete ser una experiencia inolvidable. Con conciertos en los jardines del Palau\, la Sala Rodrigo\, la Sala Iturbi y diversos barrios de la ciudad a través de «Jazz als barris»\, el festival ofrece una oportunidad única para disfrutar de la música en directo. Además\, podrás asistir a ocho conciertos completamente gratuitos\, lo que hace de este evento una cita imperdible para los amantes de la música. Conciertos Gratuitos: \n\nKiko Berenguer Freedom Experience: Jueves\, 20 de junio a las 20:15 horas en los Jardines del Palau.\nPerico Sambeat Flamenco Big Band: Miércoles\, 26 de junio a las 21:00 horas en los Jardines del Palau.\nMethenology Band & Jaco Pastorius Legacy 5tet: Viernes\, 28 de junio a las 20:00 horas en la Sala Iturbi.\nOrquesta de Jazz CSMV: Domingo\, 7 de julio a las 20:00 horas.\nJoven Orquesta Nacional de España: Miércoles\, 17 de julio a las 19:30 horas en la Sala Iturbi.\nMartina Sabariego Quartet: Sábado\, 20 de julio a las 21:00 horas en la Plaza de Campanar.\nPaco Soler Ensemble CSMV: Domingo\, 21 de julio a las 21:00 horas en Nazaret\, Plaza de Santísimo Cristo.\nMarquina Selfa Trio: Sábado\, 27 de julio a las 21:00 horas en el Parque Central.\nJúlia Sapiña: Inail: Domingo\, 28 de julio a las 21:00 horas en el Parque de Benicalap.\n\nArtistas icónicos como Trio d’Ete\, Chucho Valdés\, Terri Lyne Carrington y Lírica Big Band feat Eva Romero\, entre otros\, desfilarán por los escenarios del festival\, ofreciendo actuaciones inolvidables. Además\, el festival incluye el Seminario Internacional de Jazz del 25 al 28 de junio en el Conservatorio Municipal José Iturbi\, con clases magistrales\, jam sessions y actividades para estudiantes y músicos. Puedes consultar toda la programación en: https://palauvalencia.com
URL:https://valenciagratis.com/evento/xxvii-festival-de-jazz-de-valencia-2024-disfruta-de-conciertos-gratuitos-por-toda-la-ciudad/
LOCATION:Valencia
CATEGORIES:Música
ATTACH;FMTTYPE=image/jpeg:https://valenciagratis.com/wp-content/uploads/2024/06/portada-XXVII-Festival-de-Jazz.jpg
END:VEVENT
BEGIN:VEVENT
DTSTART;TZID=Europe/Madrid:20240612T080000
DTEND;TZID=Europe/Madrid:20240707T170000
DTSTAMP:20260419T161503
CREATED:20240624T092833Z
LAST-MODIFIED:20240624T092952Z
UID:350-1718179200-1720371600@valenciagratis.com
SUMMARY:Festival de Hamburguesas en Valencia "The Champions Burger 2024"
DESCRIPTION:¡Llega a Valencia la 5ª edición de The Champions Burger\, el festival gastronómico que elige la “Mejor Hamburguesa de España”! Del 12 de junio al 7 de julio\, el estadio de Mestalla se convertirá en el epicentro de la competencia culinaria más deliciosa del país. \nEste evento\, que ya ha recorrido ciudades como Murcia\, Córdoba\, Alicante\, Sevilla\, Zaragoza\, Madrid y Barcelona\, reunirá a más de 20 hamburgueserías gourmet en formato food truck. Los asistentes podrán disfrutar de hamburguesas que van desde las más clásicas hasta las más vanguardistas y creativas\, todas elaboradas con carnes seleccionadas\, panes artesanos y productos frescos de primera calidad. \nParticipa y Vota:\nLos visitantes tendrán la oportunidad de votar por sus hamburguesas favoritas\, evaluando aspectos como el pan\, la carne y la combinación de ingredientes. Cada hamburguesa tendrá un precio de 12\,50 euros\, y también habrá menús especiales para niños. Al votar mediante un código QR\, los asistentes entrarán automáticamente en un sorteo con premios\, incluyendo un coche Ford Ranger. \nInformación del Evento:\n\nFechas: 12 de junio al 7 de julio de 2024\nUbicación: Estadio de Mestalla\, Av. de Suecia\, Valencia\nHorario:\n\nLunes a jueves: 18:00 – 00:30\nViernes\, sábado y domingo: 12:00 – 00:30\nApertura de puertas el 12 de junio a las 19:00\n\n\n\nAcceso:\nLa entrada al evento es gratuita. Para ingresar\, es necesario tener descargada la aplicación de Uber Eats en el móvil. A través de esta aplicación\, se podrán realizar pedidos dentro del estadio. También se aceptarán pagos con tarjeta y pulseras monedero para aquellos que prefieran pagar en efectivo. \n¡No te pierdas este festival único donde podrás disfrutar de las mejores hamburguesas de España y participar en la elección de la campeona!
URL:https://valenciagratis.com/evento/festival-de-hamburguesas-en-valencia-the-champions-burger-2024/
LOCATION:mestalla\, Av. de Suècia\, s/n\, El Pla del Real\, València\, Valencia\, 46010\, España
CATEGORIES:Gastronomia
ATTACH;FMTTYPE=image/jpeg:https://valenciagratis.com/wp-content/uploads/2024/06/noticia_the-champions-burguer.jpg
END:VEVENT
BEGIN:VEVENT
DTSTART;TZID=Europe/Madrid:20240425T080000
DTEND;TZID=Europe/Madrid:20240912T170000
DTSTAMP:20260419T161503
CREATED:20240624T102344Z
LAST-MODIFIED:20240624T102613Z
UID:358-1714032000-1726160400@valenciagratis.com
SUMMARY:Piezas Inéditas en la Exposición Histórica de Playmobil
DESCRIPTION:Desde el 25 de abril hasta el 12 de septiembre de 2024\, Valencia acogerá una exposición única de Playmobil en el Museo Histórico Militar. Esta muestra gratuita\, organizada por Aesclick y el Museo Histórico Militar\, contará con seis dioramas que recrearán momentos clave de la historia española\, desde el año 209 a.C. hasta 1925. \nDetalles del Evento:\n\nFechas: 25 de abril al 12 de septiembre de 2024\nLugar: Museo Histórico Militar de Valencia\, Calle General Gil Dolz\, 6\nHorario:\n\nMartes a sábado: 10:00 – 14:00 y 16:00 – 20:00\nDomingos y festivos: 10:00 – 14:00\n\n\n\nEscenas Históricas:\nLos visitantes podrán disfrutar de escenas detalladas como: \n\nLas legiones de Escipión en la toma de Qart Hadasht (209 a.C.)\nLa Batalla de Pavía (1525)\nLa conquista de Filipinas bajo el reinado de Felipe II\nLa Guerra de la Independencia (1814)\nEl Desembarco de Alhucemas (1925)\n\nParticipación de Coleccionistas:\nLa exposición cuenta con la colaboración de 24 coleccionistas de toda España\, quienes han trabajado minuciosamente para recrear estos escenarios históricos con un alto grado de personalización. Muchas de las figuras exhibidas han sido creadas específicamente para esta muestra y no están disponibles comercialmente. \nEncuentro de Coleccionistas:\nAdemás\, los días 24\, 25 y 26 de mayo se celebrará un encuentro de coleccionistas de Playmobil\, ofreciendo una oportunidad única para los aficionados de este popular juguete de compartir su pasión y conocimientos. \nAcceso y Ubicación:\nLa entrada a la exposición es gratuita. El Museo Histórico Militar de Valencia se encuentra en la calle General Gil Dolz\, 6. El horario de visita es de martes a sábado\, de 10:00 a 14:00 y de 16:00 a 20:00 horas\, y los domingos y festivos de 10:00 a 14:00 horas. \n¡No te pierdas esta fascinante exposición y vive la historia a través de los ojos de Playmobil!
URL:https://valenciagratis.com/evento/piezas-ineditas-en-la-exposicion-historica-de-playmobil/
LOCATION:Museo Histórico Militar\, Calle General Gil Dolz\, 6\, Valencia\, Valencia\, España
CATEGORIES:Coleccionismo
ATTACH;FMTTYPE=image/jpeg:https://valenciagratis.com/wp-content/uploads/2024/06/noticia_playmobil.jpg
END:VEVENT
END:VCALENDAR