BEGIN:VCALENDAR
VERSION:2.0
PRODID:-//Valencia Gratis - ECPv6.5.1.5//NONSGML v1.0//EN
CALSCALE:GREGORIAN
METHOD:PUBLISH
X-WR-CALNAME:Valencia Gratis
X-ORIGINAL-URL:https://valenciagratis.com
X-WR-CALDESC:Eventos para Valencia Gratis
REFRESH-INTERVAL;VALUE=DURATION:PT1H
X-Robots-Tag:noindex
X-PUBLISHED-TTL:PT1H
BEGIN:VTIMEZONE
TZID:Europe/Madrid
BEGIN:DAYLIGHT
TZOFFSETFROM:+0100
TZOFFSETTO:+0200
TZNAME:CEST
DTSTART:20240331T010000
END:DAYLIGHT
BEGIN:STANDARD
TZOFFSETFROM:+0200
TZOFFSETTO:+0100
TZNAME:CET
DTSTART:20241027T010000
END:STANDARD
END:VTIMEZONE
BEGIN:VEVENT
DTSTART;TZID=Europe/Madrid:20240621T170000
DTEND;TZID=Europe/Madrid:20240630T150000
DTSTAMP:20260421T123723
CREATED:20240619T140257Z
LAST-MODIFIED:20240619T214807Z
UID:96-1718989200-1719759600@valenciagratis.com
SUMMARY:Feria del Vermut en Valencia 2024: Disfruta del Mejor Vermut en el Corazón de la Ciudad
DESCRIPTION:¡La Feria del Vermut de Valencia 2024 ya está aquí! Esta 7ª edición se celebra durante 10 días\, del viernes 21 de junio al domingo 30 de junio\, en el popular Mercado de Tapineria\, ubicado en la calle Tapineria 15-17\, en pleno centro de la ciudad. Este evento de entrada libre y gratuita es la oportunidad perfecta para disfrutar de una amplia variedad de vermuts en un ambiente festivo y relajado. Solo pagas por lo que consumes o compras. La feria tiene como objetivo promover las bodegas productoras de vermut y potenciar el consumo de esta bebida en cualquier momento del día\, ya sea como aperitivo\, afterwork\, por la tarde o antes de la cena. \nMarcas de Vermut Presentes: \n\n\n\nBenvolgut Aperitivos: Tres variedades: blanco\, rojo y rosa artesano (26-30 de junio).\nBaronía de Turís: Vermut artesanal 13:30 (26-30 de junio).\nMata Ratas: (21-25 de junio).\nVermut Artesano de Teulada: Con hierbas maceradas y vino dulce de moscatel\, de Bodega Teulada (21-25 de junio).\nVermut Gilisbars: Extradry blanco\, botanik´s y vermut original (26-30 de junio).\nCarmeleta Spirit: Variedades Rosso\, Bianco\, Orange y Rosseta (21-25 de junio).\nBodegas Urbanas: (21-25 de junio).\n\n\n\nHorarios de la Feria del Vermut de Valencia 2024:\n\nViernes 21 de junio: 17:00 – 22:00 horas.\nSábado 22 de junio: 12:00 – 22:00 horas.\nDomingo 23 de junio: 11:00 – 15:00 horas.\nLunes 24 de junio: 17:00 – 22:00 horas.\nMartes 25 de junio: 17:00 – 22:00 horas.\nMiércoles 26 de junio: 17:00 – 22:00 horas.\nJueves 27 de junio: 17:00 – 22:00 horas.\nViernes 28 de junio: 17:00 – 22:00 horas.\nSábado 29 de junio: 12:00 – 22:00 horas.\nDomingo 30 de junio: 11:00 – 15:00 horas.\n\nNo te pierdas esta cita imprescindible en el Mercado de Tapineria\, donde podrás descubrir los mejores vermuts y disfrutar de un ambiente único en el centro de Valencia.
URL:https://valenciagratis.com/evento/feria-del-vermut-en-valencia-2024-disfruta-del-mejor-vermut-en-el-corazon-de-la-ciudad/
LOCATION:Feria del Vermut 2024\, C/ de la Tapineria\, 15\, Ciutat Vella\, Valencia\, Valencia\, 46001\, Spain
CATEGORIES:Cocktails,Gastronomia
ATTACH;FMTTYPE=image/jpeg:https://valenciagratis.com/wp-content/uploads/2024/06/portada-feria-vermut-valencia-v4.jpg
END:VEVENT
END:VCALENDAR